BEGIN:VCALENDAR
PRODID:-//IONAS//TVM//DE
VERSION:2.0
CALSCALE:GREGORIAN
BEGIN:VTIMEZONE
TZID:Europe/Berlin
LAST-MODIFIED:20201010T011803Z
TZURL:http://tzurl.org/zoneinfo/Europe/Berlin
X-LIC-LOCATION:Europe/Berlin
X-PROLEPTIC-TZNAME:LMT
BEGIN:STANDARD
TZNAME:CET
TZOFFSETFROM:+005328
TZOFFSETTO:+0100
DTSTART:18930401T000000
END:STANDARD
BEGIN:DAYLIGHT
TZNAME:CEST
TZOFFSETFROM:+0100
TZOFFSETTO:+0200
DTSTART:19160430T230000
RDATE:19400401T020000
RDATE:19430329T020000
RDATE:19460414T020000
RDATE:19470406T030000
RDATE:19480418T020000
RDATE:19490410T020000
RDATE:19800406T020000
END:DAYLIGHT
BEGIN:STANDARD
TZNAME:CET
TZOFFSETFROM:+0200
TZOFFSETTO:+0100
DTSTART:19161001T010000
RDATE:19421102T030000
RDATE:19431004T030000
RDATE:19441002T030000
RDATE:19451118T030000
RDATE:19461007T030000
END:STANDARD
BEGIN:DAYLIGHT
TZNAME:CEST
TZOFFSETFROM:+0100
TZOFFSETTO:+0200
DTSTART:19170416T020000
RRULE:FREQ=YEARLY;UNTIL=19180415T010000Z;BYMONTH=4;BYDAY=3MO
END:DAYLIGHT
BEGIN:STANDARD
TZNAME:CET
TZOFFSETFROM:+0200
TZOFFSETTO:+0100
DTSTART:19170917T030000
RRULE:FREQ=YEARLY;UNTIL=19180916T010000Z;BYMONTH=9;BYDAY=3MO
END:STANDARD
BEGIN:DAYLIGHT
TZNAME:CEST
TZOFFSETFROM:+0100
TZOFFSETTO:+0200
DTSTART:19440403T020000
RRULE:FREQ=YEARLY;UNTIL=19450402T010000Z;BYMONTH=4;BYDAY=1MO
END:DAYLIGHT
BEGIN:DAYLIGHT
TZNAME:CEMT
TZOFFSETFROM:+0200
TZOFFSETTO:+0300
DTSTART:19450524T020000
RDATE:19470511T030000
END:DAYLIGHT
BEGIN:DAYLIGHT
TZNAME:CEST
TZOFFSETFROM:+0300
TZOFFSETTO:+0200
DTSTART:19450924T030000
RDATE:19470629T030000
END:DAYLIGHT
BEGIN:STANDARD
TZNAME:CET
TZOFFSETFROM:+0100
TZOFFSETTO:+0100
DTSTART:19460101T000000
RDATE:19800101T000000
END:STANDARD
BEGIN:STANDARD
TZNAME:CET
TZOFFSETFROM:+0200
TZOFFSETTO:+0100
DTSTART:19471005T030000
RRULE:FREQ=YEARLY;UNTIL=19491002T010000Z;BYMONTH=10;BYDAY=1SU
END:STANDARD
BEGIN:STANDARD
TZNAME:CET
TZOFFSETFROM:+0200
TZOFFSETTO:+0100
DTSTART:19800928T030000
RRULE:FREQ=YEARLY;UNTIL=19950924T010000Z;BYMONTH=9;BYDAY=-1SU
END:STANDARD
BEGIN:DAYLIGHT
TZNAME:CEST
TZOFFSETFROM:+0100
TZOFFSETTO:+0200
DTSTART:19810329T020000
RRULE:FREQ=YEARLY;BYMONTH=3;BYDAY=-1SU
END:DAYLIGHT
BEGIN:STANDARD
TZNAME:CET
TZOFFSETFROM:+0200
TZOFFSETTO:+0100
DTSTART:19961027T030000
RRULE:FREQ=YEARLY;BYMONTH=10;BYDAY=-1SU
END:STANDARD
END:VTIMEZONE
BEGIN:VEVENT
DTSTAMP:20260422T170903Z
DTSTART;TZID=Europe/Berlin:20260529T190000
DTEND;TZID=Europe/Berlin:20260530T010000
SUMMARY:25 Jahre Kult(o)urnacht Speyer 2026   
CREATED:20260320T135019Z
LAST-MODIFIED:20260325T071438Z
DESCRIPTION:Kultur Erlebnisse in mehr als 30 Locations in der Innenstadt 
 Speyer!\n\nIn Speyer öffnen rund 28 Kultureinrichtungen ihre Türen für a
 lle Kulturbegeisterten. Von 19 bis 1 Uhr besteht die Möglichkeit\, die M
 useen\, Galerien\, Kirchen und Kulturstätten zu erkunden\, die normalerw
 eise nur tagsüber zugänglich sind.\n\nBegeben Sie sich auf einen unverge
 sslichen Abend bei der Kult(o)urnacht im Kulturhof Flachsgasse\, wo viel
 fältige Kunstformen aufeinandertreffen. Der Rockmusiker-Verein sorgt für
  mitreißende Live-Musik\, im Alten Stadtsaal erleben Sie Theaterkunst ha
 utnah\, und in der Städtischen Galerie erweckt der Literarische Verein d
 er Pfalz das Ausstellungsthema von Manuel Thomas „Ein Leben lang Neues“ 
 zum Leben. \n\nEntdecken Sie jetzt die neue Pop-Up-Ausstellung von speye
 rART auf der Maximilianstraße – ein echter Blickfang oder Sie schwingen 
 das Tanzbein in der Korngasse bei Speyerer Weltladen. Für alle\, die das
  „Haus der Badisch-Pfälzischen Fasnacht“ entdecken möchten\, fährt der K
 ulturbus direkt vom Postplatz dorthin. Nur diese Location wird vom Kultu
 rbus angefahren. \n\nFreuen Sie sich auf ein super vielseitiges Angebot 
 voller kreativer Köpfe und inspirierender Erlebnisse! Lassen Sie sich vo
 n der Vielfalt der Kultur überraschen und entdecken Sie\, was Speyer in 
 der Nacht zu bieten hat.\n\nEintritt: 12\,- / ermäßigt 6\,- / Kinder unt
 er 12 frei\n\nVorverkauf ab 11. Mai in der Tourist-Information Speyer!
LOCATION:Kulturhof Flachsgasse-Innenhof
X-LOCATION-NAME:Kulturhof Flachsgasse-Innenhof
X-STREET-ADDRESS:Flachsgasse 3
X-POSTAL-CODE:67346
X-LOCALITY:Speyer
GEO:49.31667899992385;8.43827382149584
ORGANIZER;CN="Kulturbüro ":mailto:Kulturbuero@Stadt-Speyer.de
X-ORGANIZER-NAME:Kulturbüro 
X-ORGANIZER-EMAIL:Kulturbuero@Stadt-Speyer.de
X-ORGANIZER-TELEPHONE:06232 142250
X-ORGANIZER-WEBSITE:https://www.speyer.de/de/buergerservice/abteilungen/
X-ORGANIZER-ADDRESS-POSTALCODE:67346
X-ORGANIZER-ADDRESS-LOCALITY:Speyer
X-ORGANIZER-ADDRESS-STREET:Kleine Pfaffengasse 6
X-ORGANIZER-GEO:49.31640669999999\;8.4380062
X-IONAS-CATEGORY:Sonstige Veranstaltungen
CATEGORIES:Sonstige Veranstaltungen,Sonstiges,Portalseite
ATTACH;FMTTYPE=image/jpeg;X-COPYRIGHT=Klaus Landry:https://www.speyer.de/
 de/kalender/veranstaltungen-kultur/2026-05-29-25-jahre-kult-o-urnacht-sp
 eyer-2026/kult-o-urnacht.jpg?cid=4er1.qis1
UID:0f2f41dc-0956-4eaa-bd47-1e880fec637e:2026-05-29
X-PRICE:12\,- / ermäßigt 6\,- / Kinder unter 12 frei
END:VEVENT
END:VCALENDAR
