BEGIN:VCALENDAR
PRODID:-//IONAS//TVM//DE
VERSION:2.0
CALSCALE:GREGORIAN
BEGIN:VTIMEZONE
TZID:Europe/Berlin
LAST-MODIFIED:20201010T011803Z
TZURL:http://tzurl.org/zoneinfo/Europe/Berlin
X-LIC-LOCATION:Europe/Berlin
X-PROLEPTIC-TZNAME:LMT
BEGIN:STANDARD
TZNAME:CET
TZOFFSETFROM:+005328
TZOFFSETTO:+0100
DTSTART:18930401T000000
END:STANDARD
BEGIN:DAYLIGHT
TZNAME:CEST
TZOFFSETFROM:+0100
TZOFFSETTO:+0200
DTSTART:19160430T230000
RDATE:19400401T020000
RDATE:19430329T020000
RDATE:19460414T020000
RDATE:19470406T030000
RDATE:19480418T020000
RDATE:19490410T020000
RDATE:19800406T020000
END:DAYLIGHT
BEGIN:STANDARD
TZNAME:CET
TZOFFSETFROM:+0200
TZOFFSETTO:+0100
DTSTART:19161001T010000
RDATE:19421102T030000
RDATE:19431004T030000
RDATE:19441002T030000
RDATE:19451118T030000
RDATE:19461007T030000
END:STANDARD
BEGIN:DAYLIGHT
TZNAME:CEST
TZOFFSETFROM:+0100
TZOFFSETTO:+0200
DTSTART:19170416T020000
RRULE:FREQ=YEARLY;UNTIL=19180415T010000Z;BYMONTH=4;BYDAY=3MO
END:DAYLIGHT
BEGIN:STANDARD
TZNAME:CET
TZOFFSETFROM:+0200
TZOFFSETTO:+0100
DTSTART:19170917T030000
RRULE:FREQ=YEARLY;UNTIL=19180916T010000Z;BYMONTH=9;BYDAY=3MO
END:STANDARD
BEGIN:DAYLIGHT
TZNAME:CEST
TZOFFSETFROM:+0100
TZOFFSETTO:+0200
DTSTART:19440403T020000
RRULE:FREQ=YEARLY;UNTIL=19450402T010000Z;BYMONTH=4;BYDAY=1MO
END:DAYLIGHT
BEGIN:DAYLIGHT
TZNAME:CEMT
TZOFFSETFROM:+0200
TZOFFSETTO:+0300
DTSTART:19450524T020000
RDATE:19470511T030000
END:DAYLIGHT
BEGIN:DAYLIGHT
TZNAME:CEST
TZOFFSETFROM:+0300
TZOFFSETTO:+0200
DTSTART:19450924T030000
RDATE:19470629T030000
END:DAYLIGHT
BEGIN:STANDARD
TZNAME:CET
TZOFFSETFROM:+0100
TZOFFSETTO:+0100
DTSTART:19460101T000000
RDATE:19800101T000000
END:STANDARD
BEGIN:STANDARD
TZNAME:CET
TZOFFSETFROM:+0200
TZOFFSETTO:+0100
DTSTART:19471005T030000
RRULE:FREQ=YEARLY;UNTIL=19491002T010000Z;BYMONTH=10;BYDAY=1SU
END:STANDARD
BEGIN:STANDARD
TZNAME:CET
TZOFFSETFROM:+0200
TZOFFSETTO:+0100
DTSTART:19800928T030000
RRULE:FREQ=YEARLY;UNTIL=19950924T010000Z;BYMONTH=9;BYDAY=-1SU
END:STANDARD
BEGIN:DAYLIGHT
TZNAME:CEST
TZOFFSETFROM:+0100
TZOFFSETTO:+0200
DTSTART:19810329T020000
RRULE:FREQ=YEARLY;BYMONTH=3;BYDAY=-1SU
END:DAYLIGHT
BEGIN:STANDARD
TZNAME:CET
TZOFFSETFROM:+0200
TZOFFSETTO:+0100
DTSTART:19961027T030000
RRULE:FREQ=YEARLY;BYMONTH=10;BYDAY=-1SU
END:STANDARD
END:VTIMEZONE
BEGIN:VEVENT
DTSTAMP:20260422T083827Z
DTSTART;TZID=Europe/Berlin:20260424T190000
DTEND;TZID=Europe/Berlin:20260424T210000
SUMMARY:Quiz-Abend: Wie gut kennt Ihr die Pfalz?
CREATED:20260415T083651Z
LAST-MODIFIED:20260415T114711Z
DESCRIPTION:Welchen Ursprung hat der Begriff \"alla hopp\"? Aus welchem p
 fälzischen Ort stammt der Sänger Mark Forster? Welche Länge hat der größ
 te Schuh der Welt im Schuhmuseum Hauenstein? Beim pfälzischen Quiz-Abend
  mit Autorin Katja Edelmann im Fachgeschäft Spiele-Cosmos können die Mit
 spielerinnen und Mitspieler können zeigen\, wie gut sie ihre (Wahl-)Heim
 at kennen. Der Quiz-Champion bekommt ein Pfalz-Quiz geschenkt!\n\nEintri
 tt inklusive Wein\, Softgetränke und Snacks.\n\nAnmeldung per Telefon 85
 4 958 8 oder Mail an info@spiele-cosmos.de beim Spiele-Cosmos.
LOCATION:Spiele-Cosmos
X-LOCATION-NAME:Spiele-Cosmos
X-STREET-ADDRESS:Schustergasse 4
X-POSTAL-CODE:67346
X-LOCALITY:Speyer
ORGANIZER;CN=Spiele-Cosmos:mailto:info@spiele-cosmos.de
X-ORGANIZER-NAME:Spiele-Cosmos
X-ORGANIZER-EMAIL:info@spiele-cosmos.de
X-ORGANIZER-TELEPHONE:854 958 8
X-ORGANIZER-WEBSITE:https://www.spiele-cosmos.de/
URL:https://www.spiele-cosmos.de/info/veranstaltungen-ue.html
X-IONAS-CATEGORY:Literatur & Filme
CATEGORIES:Literatur & Filme,Sonstiges
ATTACH;FMTTYPE=image/jpeg;X-COPYRIGHT=Katja Edelmann:https://www.speyer.d
 e/de/kalender/veranstaltungen-kultur/2026-04-24-quiz-abend-wie-gut-kennt
 -ihr-die-pfalz/2026-04-quadrat-grafik-insta-spiele-cosmos-pfalz-quiz-kur
 z.jpg?cid=4f3g.qng1
UID:8dd001e1-52c3-45ce-963f-aff75fb48ec4:2026-04-24
X-PRICE:12 €
END:VEVENT
END:VCALENDAR
